BEGIN:VCALENDAR
VERSION:2.0
PRODID:-//Schachklub Rankweil - ECPv6.15.20//NONSGML v1.0//EN
CALSCALE:GREGORIAN
METHOD:PUBLISH
X-WR-CALNAME:Schachklub Rankweil
X-ORIGINAL-URL:https://www.schachklub-rankweil.at
X-WR-CALDESC:Veranstaltungen für Schachklub Rankweil
REFRESH-INTERVAL;VALUE=DURATION:PT1H
X-Robots-Tag:noindex
X-PUBLISHED-TTL:PT1H
BEGIN:VTIMEZONE
TZID:Europe/Vaduz
BEGIN:DAYLIGHT
TZOFFSETFROM:+0100
TZOFFSETTO:+0200
TZNAME:CEST
DTSTART:20240331T010000
END:DAYLIGHT
BEGIN:STANDARD
TZOFFSETFROM:+0200
TZOFFSETTO:+0100
TZNAME:CET
DTSTART:20241027T010000
END:STANDARD
BEGIN:DAYLIGHT
TZOFFSETFROM:+0100
TZOFFSETTO:+0200
TZNAME:CEST
DTSTART:20250330T010000
END:DAYLIGHT
BEGIN:STANDARD
TZOFFSETFROM:+0200
TZOFFSETTO:+0100
TZNAME:CET
DTSTART:20251026T010000
END:STANDARD
BEGIN:DAYLIGHT
TZOFFSETFROM:+0100
TZOFFSETTO:+0200
TZNAME:CEST
DTSTART:20260329T010000
END:DAYLIGHT
BEGIN:STANDARD
TZOFFSETFROM:+0200
TZOFFSETTO:+0100
TZNAME:CET
DTSTART:20261025T010000
END:STANDARD
BEGIN:DAYLIGHT
TZOFFSETFROM:+0100
TZOFFSETTO:+0200
TZNAME:CEST
DTSTART:20270328T010000
END:DAYLIGHT
BEGIN:STANDARD
TZOFFSETFROM:+0200
TZOFFSETTO:+0100
TZNAME:CET
DTSTART:20271031T010000
END:STANDARD
END:VTIMEZONE
BEGIN:VEVENT
DTSTART;TZID=Europe/Vaduz:20260417T170000
DTEND;TZID=Europe/Vaduz:20260417T230000
DTSTAMP:20260420T102745
CREATED:20250905T162406Z
LAST-MODIFIED:20250905T162406Z
UID:4679-1776445200-1776466800@www.schachklub-rankweil.at
SUMMARY:Schüler-/Jugendtraining - Vereinsabend
DESCRIPTION:17:00-18:00 Uhr Schülertraining\n18:00 – 19:00 Uhr: Jugendtraining\nab 19:00 Vereinsabend
URL:https://www.schachklub-rankweil.at/event/schueler-jugendtraining-vereinsabend-15/
END:VEVENT
BEGIN:VEVENT
DTSTART;TZID=Europe/Vaduz:20260417T170000
DTEND;TZID=Europe/Vaduz:20260417T230000
DTSTAMP:20260420T102745
CREATED:20250905T162308Z
LAST-MODIFIED:20250905T162308Z
UID:4677-1776445200-1776466800@www.schachklub-rankweil.at
SUMMARY:Schüler-/Jugendtraining - Vereinsabend
DESCRIPTION:17:00-18:00 Uhr Schülertraining\n18:00 – 19:00 Uhr: Jugendtraining\nab 19:00 Vereinsabend
URL:https://www.schachklub-rankweil.at/event/schueler-jugendtraining-vereinsabend-14/
END:VEVENT
BEGIN:VEVENT
DTSTART;TZID=Europe/Vaduz:20260410T170000
DTEND;TZID=Europe/Vaduz:20260410T230000
DTSTAMP:20260420T102745
CREATED:20250905T162225Z
LAST-MODIFIED:20260314T075645Z
UID:4675-1775840400-1775862000@www.schachklub-rankweil.at
SUMMARY:Schüler-/Jugendtraining - Vereinsabend
DESCRIPTION:Die letzten 3 Runden Vereinsmeisterschaften – U16 und U10 – Beginn für alle 17:00 Uhr \nab 19:00 Vereinsmeisterschaften 3. Runde „Erwachsene“
URL:https://www.schachklub-rankweil.at/event/schueler-jugendtraining-vereinsabend-13/
END:VEVENT
BEGIN:VEVENT
DTSTART;TZID=Europe/Vaduz:20260329T000000
DTEND;TZID=Europe/Vaduz:20260406T235959
DTSTAMP:20260420T102745
CREATED:20250905T153716Z
LAST-MODIFIED:20250905T153716Z
UID:4636-1774742400-1775519999@www.schachklub-rankweil.at
SUMMARY:Osterferien
DESCRIPTION:
URL:https://www.schachklub-rankweil.at/event/osterferien/
END:VEVENT
BEGIN:VEVENT
DTSTART;TZID=Europe/Vaduz:20260327T170000
DTEND;TZID=Europe/Vaduz:20260327T190000
DTSTAMP:20260420T102745
CREATED:20260222T083721Z
LAST-MODIFIED:20260314T075442Z
UID:4920-1774630800-1774638000@www.schachklub-rankweil.at
SUMMARY:Training - Vereinsabend
DESCRIPTION:U16\, U10: 17:00 Uhr Training \nDie letzten 3 Runden der Vereinsmeisterschaft finden vermutlich am 10. April statt! Außer der Jugendcup wird schon gestartet. \nAb 19:00 Uhr Vereinsabend – außer Cuprunde findet statt.
URL:https://www.schachklub-rankweil.at/event/vereinsmeisterschaft-schueler-u10-und-u14-abschluss-und-siegerehrung/
END:VEVENT
BEGIN:VEVENT
DTSTART;TZID=Europe/Vaduz:20260326T000000
DTEND;TZID=Europe/Vaduz:20260326T235959
DTSTAMP:20260420T102745
CREATED:20260322T151142Z
LAST-MODIFIED:20260322T151231Z
UID:5011-1774483200-1774569599@www.schachklub-rankweil.at
SUMMARY:Schulen-Landesfinale
DESCRIPTION:KOM – Altach \nLink hier!
URL:https://www.schachklub-rankweil.at/event/schulen-landesfinale/
END:VEVENT
BEGIN:VEVENT
DTSTART;TZID=Europe/Vaduz:20260321T100000
DTEND;TZID=Europe/Vaduz:20260321T113000
DTSTAMP:20260420T102745
CREATED:20260314T075120Z
LAST-MODIFIED:20260314T075120Z
UID:4989-1774087200-1774092600@www.schachklub-rankweil.at
SUMMARY:Flurreinigung
DESCRIPTION:Am Samstag findet die Flurreinigung statt – Freiwillige herzlichst willkommen – im Anschluss daran kleine Jause! \nStart und Treffpunkt: 10:00 Werkhof hinterm Berg – Dauer ca. 1-1\,5 Stunden
URL:https://www.schachklub-rankweil.at/event/flurreinigung/
END:VEVENT
BEGIN:VEVENT
DTSTART;TZID=Europe/Vaduz:20260320T170000
DTEND;TZID=Europe/Vaduz:20260320T230000
DTSTAMP:20260420T102745
CREATED:20250905T152843Z
LAST-MODIFIED:20260314T074438Z
UID:4626-1774026000-1774047600@www.schachklub-rankweil.at
SUMMARY:Schüler-/Jugendtraining - VMM Abschluss
DESCRIPTION:17:00 – 18:45 Schüler- und Jugendtraining \nVMM (Abschluss)\nA-Klasse:\nRankweil 2 – Sonnenberg 2\nLochau 2 – Rankweil 1\nB-Klasse:\nDornbirn 4 – Rankweil 3
URL:https://www.schachklub-rankweil.at/event/schueler-jugendtraining-vmm-abschluss/
END:VEVENT
BEGIN:VEVENT
DTSTART;TZID=Europe/Vaduz:20260313T190000
DTEND;TZID=Europe/Vaduz:20260313T230000
DTSTAMP:20260420T102745
CREATED:20260222T084614Z
LAST-MODIFIED:20260222T084614Z
UID:4924-1773428400-1773442800@www.schachklub-rankweil.at
SUMMARY:Vereinsmeisterschaften SK Rankweil Jugendliche und Erwachsene
DESCRIPTION:2. Rundenserie Vereinsmeisterschaften
URL:https://www.schachklub-rankweil.at/event/vereinsmeisterschaften-sk-rankweil-jugendliche-und-erwachsene-2/
END:VEVENT
BEGIN:VEVENT
DTSTART;TZID=Europe/Vaduz:20260313T170000
DTEND;TZID=Europe/Vaduz:20260313T190000
DTSTAMP:20260420T102745
CREATED:20260222T083335Z
LAST-MODIFIED:20260222T083410Z
UID:4918-1773421200-1773428400@www.schachklub-rankweil.at
SUMMARY:Vereinsmeisterschaft Schüler U10 und U14 (Runden 4-6)
DESCRIPTION:Heute Runden 4-6 der Vereinsmeisterschaft für U10 und U14. \nStart 17:00 Uhr!
URL:https://www.schachklub-rankweil.at/event/vereinsmeisterschaft-schueler-u10-und-u14-runden-4-6/
END:VEVENT
BEGIN:VEVENT
DTSTART;TZID=Europe/Vaduz:20260308T000000
DTEND;TZID=Europe/Vaduz:20260308T235959
DTSTAMP:20260420T102745
CREATED:20260222T082217Z
LAST-MODIFIED:20260222T082234Z
UID:4911-1772928000-1773014399@www.schachklub-rankweil.at
SUMMARY:Josefi-Turnier (Abschluss der Schüler- und Jugendrallye-Serie 2026)
DESCRIPTION:26_Einladung_Josefi_ \nAnmeldungen an mich bis 4. März (bitte mit genauen Angaben: Name Vorname\, Kategorie) – ich leite sie dann gesammelt weiter.\nHin- und Rückfahrt bitte selber organisieren – ich bin nicht da. \nDie Teilnahmegebühren für Mitglieder des SK Rankweil werden dann beim nächsten Training zurückgegeben. \nViel Spaß bei diesem Turnier! Gerhard
URL:https://www.schachklub-rankweil.at/event/josefi-turnier-abschluss-der-schueler-und-jugendrallye-serie-2026/
END:VEVENT
BEGIN:VEVENT
DTSTART;TZID=Europe/Vaduz:20260306T170000
DTEND;TZID=Europe/Vaduz:20260306T230000
DTSTAMP:20260420T102745
CREATED:20250905T152344Z
LAST-MODIFIED:20250905T152344Z
UID:4623-1772816400-1772838000@www.schachklub-rankweil.at
SUMMARY:Schüler-/Jugendtraining - VMM
DESCRIPTION:17:00 – 18:00 Uhr Schülertraining\n18:00 – 19:00 Uhr Jugendtraining\nVMM\nA-Klasse:\nGötzis 2 – Rankweil 2\nRankweil 1 – Bregenz 2\nB-Klasse:\nRankweil 3 – Wolfurt 3
URL:https://www.schachklub-rankweil.at/event/schueler-jugendtraining-vmm-11/
END:VEVENT
BEGIN:VEVENT
DTSTART;TZID=Europe/Vaduz:20260227T190000
DTEND;TZID=Europe/Vaduz:20260227T230000
DTSTAMP:20260420T102745
CREATED:20260222T084505Z
LAST-MODIFIED:20260222T084505Z
UID:4922-1772218800-1772233200@www.schachklub-rankweil.at
SUMMARY:Vereinsmeisterschaften SK Rankweil Jugendliche und Erwachsene
DESCRIPTION:Start der Vereinsmeisterschaft für Jugendliche und Erwachsene. \nGespielt wird wieder im bekannten Modus. Gegen den selben Gegner werden 3 Spiele gespielt (abwechselnd mit Weiß/Schwarz).\na) 3+2 (Blitz)\nb) 10+10 (Schnellschach)\nc) 1 Stunde Normalschach \nInsgesamt werden 7 Spielabende angeboten – es werden die besten 5 gewertet! Da die Cup-Termine noch nicht bekannt sind\, können wir momentan nur die ersten 3 Termine fixieren. \n19:00 – Anmeldung\n19:15 – Start!
URL:https://www.schachklub-rankweil.at/event/vereinsmeisterschaften-sk-rankweil-jugendliche-und-erwachsene/
END:VEVENT
BEGIN:VEVENT
DTSTART;TZID=Europe/Vaduz:20260227T170000
DTEND;TZID=Europe/Vaduz:20260227T190000
DTSTAMP:20260420T102745
CREATED:20260222T082941Z
LAST-MODIFIED:20260222T083053Z
UID:4914-1772211600-1772218800@www.schachklub-rankweil.at
SUMMARY:Vereinsmeisterschaft Schüler U10 und U14
DESCRIPTION:Die Vereinsmeisterschaft für Schüler – getrennt in zwei Gruppen – startet am Freitag\, dem 27.2.2026 für alle um 17:00 Uhr. \nWir spielen heute 3 Runden (von insgesamt 9) mit Bedenkzeit 10 Minuten +10 Sekunden pro Zug und Spieler.
URL:https://www.schachklub-rankweil.at/event/vereinsmeisterschaft-schueler-u10-und-u14/
END:VEVENT
BEGIN:VEVENT
DTSTART;TZID=Europe/Vaduz:20260222T000000
DTEND;TZID=Europe/Vaduz:20260222T235959
DTSTAMP:20260420T102745
CREATED:20260218T001619Z
LAST-MODIFIED:20260218T001732Z
UID:4897-1771718400-1771804799@www.schachklub-rankweil.at
SUMMARY:Schachrallye Lustenau
DESCRIPTION:Bitte bis Mittwoch bei mir voranmelden – ich leite dann gesammelt weiter! Fahrgemeinschaften wären erwünscht. SG Gerhard \n2026-Rallye-Lustenau
URL:https://www.schachklub-rankweil.at/event/schachrallye-2/
END:VEVENT
BEGIN:VEVENT
DTSTART;TZID=Europe/Vaduz:20260221T133000
DTEND;TZID=Europe/Vaduz:20260221T173000
DTSTAMP:20260420T102745
CREATED:20260218T001504Z
LAST-MODIFIED:20260218T001504Z
UID:4895-1771680600-1771695000@www.schachklub-rankweil.at
SUMMARY:Schulenturnier Lustenau
DESCRIPTION:Voranmeldung bitte bis Mi bei mir über Whatsapp oder Mail. Ich melde dann gesammelt an. Fahrgemeinschaften wären erwünscht. SG Gerhard \n2026-Schulschach-Lustenau
URL:https://www.schachklub-rankweil.at/event/schulenturnier-lustenau/
END:VEVENT
BEGIN:VEVENT
DTSTART;TZID=Europe/Vaduz:20260220T170000
DTEND;TZID=Europe/Vaduz:20260220T230000
DTSTAMP:20260420T102745
CREATED:20250905T152136Z
LAST-MODIFIED:20250905T152136Z
UID:4621-1771606800-1771628400@www.schachklub-rankweil.at
SUMMARY:Schüler-/Jugendtraining - VMM
DESCRIPTION:17:00 – 18:00 Uhr Schülertraining\n18:00 – 18:45 Uhr Jugendtraining\nVMM\nA-Klasse:\nRankweil 2 – Höchst 1\nRaggal 1 – Rankweil 1\nB-Klasse:\nNenzing 2 – Rankweil 3
URL:https://www.schachklub-rankweil.at/event/schueler-jugendtraining-vmm-10/
END:VEVENT
BEGIN:VEVENT
DTSTART;TZID=Europe/Vaduz:20260206T170000
DTEND;TZID=Europe/Vaduz:20260206T230000
DTSTAMP:20260420T102745
CREATED:20250905T161718Z
LAST-MODIFIED:20250905T161718Z
UID:4667-1770397200-1770418800@www.schachklub-rankweil.at
SUMMARY:Schüler-/Jugendtraining - Vereinsabend
DESCRIPTION:17:00-18:00 Uhr Schülertraining\n18:00 – 19:00 Uhr: Jugendtraining\nab 19:00 Vereinsabend
URL:https://www.schachklub-rankweil.at/event/schueler-jugendtraining-vereinsabend-9/
END:VEVENT
BEGIN:VEVENT
DTSTART;TZID=Europe/Vaduz:20260206T000000
DTEND;TZID=Europe/Vaduz:20260215T235959
DTSTAMP:20260420T102745
CREATED:20250905T153203Z
LAST-MODIFIED:20250905T153203Z
UID:4630-1770336000-1771199999@www.schachklub-rankweil.at
SUMMARY:Semesterferien
DESCRIPTION:
URL:https://www.schachklub-rankweil.at/event/semesterferien/
END:VEVENT
BEGIN:VEVENT
DTSTART;TZID=Europe/Vaduz:20260130T170000
DTEND;TZID=Europe/Vaduz:20260130T230000
DTSTAMP:20260420T102745
CREATED:20250905T151834Z
LAST-MODIFIED:20250905T151834Z
UID:4619-1769792400-1769814000@www.schachklub-rankweil.at
SUMMARY:Schüler-/Jugendtraining - VMM
DESCRIPTION:17:00 – 18:00 Schülertraining\n18:00 – 19:00 Jugendtraining \nVMM\nA-Klasse:\nDornbirn 2 – Rankweil 2\nRankweil 1 – Hörbranz 2\nB-Klasse:\nRankweil 3 – Frastanz 1
URL:https://www.schachklub-rankweil.at/event/schueler-jugendtraining-vmm-9/
END:VEVENT
BEGIN:VEVENT
DTSTART;TZID=Europe/Vaduz:20260123T170000
DTEND;TZID=Europe/Vaduz:20260123T230000
DTSTAMP:20260420T102745
CREATED:20250905T161451Z
LAST-MODIFIED:20250905T161451Z
UID:4664-1769187600-1769209200@www.schachklub-rankweil.at
SUMMARY:Schüler-/Jugendtraining - Vereinsabend
DESCRIPTION:17:00-18:00 Uhr Schülertraining\n18:00 – 19:00 Uhr: Jugendtraining\nab 19:00 Vereinsabend
URL:https://www.schachklub-rankweil.at/event/schueler-jugendtraining-vereinsabend-8/
END:VEVENT
BEGIN:VEVENT
DTSTART;TZID=Europe/Vaduz:20260118T090000
DTEND;TZID=Europe/Vaduz:20260118T170000
DTSTAMP:20260420T102745
CREATED:20260112T104902Z
LAST-MODIFIED:20260112T105112Z
UID:4857-1768726800-1768755600@www.schachklub-rankweil.at
SUMMARY:Schachrallye - Mittelschule Bludenz
DESCRIPTION:2025-26-Einladung-Rallye-Bludenz \nSchüler- und Jugendliche des Schachklub Rankweil bitte bei mir bis Mittwoch\, 14.1.2026 anmelden. Name\, Kategorie –  SG Gerhard
URL:https://www.schachklub-rankweil.at/event/schachrallye/
END:VEVENT
BEGIN:VEVENT
DTSTART;TZID=Europe/Vaduz:20260117T133000
DTEND;TZID=Europe/Vaduz:20260117T180000
DTSTAMP:20260420T102745
CREATED:20260112T104538Z
LAST-MODIFIED:20260112T105021Z
UID:4854-1768656600-1768672800@www.schachklub-rankweil.at
SUMMARY:Schulen- bzw. Einsteigerturnier in Bludenz (Mittelschule)
DESCRIPTION:2026-Einladung-Schulenturnier-Bludenz \nSchüler des Schachklub Rankweil bitte bis Mittwoch 14.1.2026 bei mir anmelden. Name\, Schule\, Schulstufe – SG Gerhard
URL:https://www.schachklub-rankweil.at/event/schulen-bzw-einsteigerturnier/
END:VEVENT
BEGIN:VEVENT
DTSTART;TZID=Europe/Vaduz:20260116T170000
DTEND;TZID=Europe/Vaduz:20260116T230000
DTSTAMP:20260420T102745
CREATED:20250905T151514Z
LAST-MODIFIED:20250905T151514Z
UID:4617-1768582800-1768604400@www.schachklub-rankweil.at
SUMMARY:Schüler-/Jugendtraining - VMM
DESCRIPTION:17:00 – 18:00 Uhr Schülertraining\n18:00 – 19:00 Uhr Jugendtraining\nVMM\nA-Klasse:\nRankweil 2 – Hohenems 3\nRankweil 1 – Bregenz 3\nB-Klasse:\nBregenz 4 – Rankweil 3
URL:https://www.schachklub-rankweil.at/event/schueler-jugendtraining-vmm-8/
END:VEVENT
BEGIN:VEVENT
DTSTART;TZID=Europe/Vaduz:20260109T170000
DTEND;TZID=Europe/Vaduz:20260109T230000
DTSTAMP:20260420T102745
CREATED:20250905T161240Z
LAST-MODIFIED:20250905T161240Z
UID:4662-1767978000-1767999600@www.schachklub-rankweil.at
SUMMARY:Schüler-/Jugendtraining - Vereinsabend
DESCRIPTION:17:00 – 18:00 Schülertraining\n18:00 – 19:00 Jugendtraining \nab 19:00 Vereinsabend
URL:https://www.schachklub-rankweil.at/event/schueler-jugendtraining-vereinsabend-7/
END:VEVENT
BEGIN:VEVENT
DTSTART;TZID=Europe/Vaduz:20260109T170000
DTEND;TZID=Europe/Vaduz:20260109T230000
DTSTAMP:20260420T102745
CREATED:20250905T151119Z
LAST-MODIFIED:20250905T151216Z
UID:4615-1767978000-1767999600@www.schachklub-rankweil.at
SUMMARY:Schüler-/Jugendtraining - VMM
DESCRIPTION:17:00 Uhr – 18:00 Uhr Schülertraining\n18:00 – 19:00 Uhr Jugendtraining\nVMM\nB-Klasse:\nRankweil 3 – Bregenzerwald 1
URL:https://www.schachklub-rankweil.at/event/schueler-jugendtraining-vmm-7/
END:VEVENT
BEGIN:VEVENT
DTSTART;TZID=Europe/Vaduz:20251224T000000
DTEND;TZID=Europe/Vaduz:20260106T235959
DTSTAMP:20260420T102745
CREATED:20250905T153300Z
LAST-MODIFIED:20250905T153300Z
UID:4632-1766534400-1767743999@www.schachklub-rankweil.at
SUMMARY:Weihnachtsferien
DESCRIPTION:
URL:https://www.schachklub-rankweil.at/event/weihnachtsferien/
END:VEVENT
BEGIN:VEVENT
DTSTART;TZID=Europe/Vaduz:20251219T170000
DTEND;TZID=Europe/Vaduz:20251219T230000
DTSTAMP:20260420T102745
CREATED:20250905T161051Z
LAST-MODIFIED:20251213T111320Z
UID:4660-1766163600-1766185200@www.schachklub-rankweil.at
SUMMARY:Schokoturniere
DESCRIPTION:17:00 Uhr für alle unter 14 Jahren: 5 Runden\, Bedenkzeit 10 Minuten\n19:00 Uhr für alle ab 14 Jahren: 9 Runden Blitzturnier 3+2 \nSchokos für alle! \nBitte pünktlich sein!
URL:https://www.schachklub-rankweil.at/event/schokoturniere/
END:VEVENT
BEGIN:VEVENT
DTSTART;TZID=Europe/Vaduz:20251212T170000
DTEND;TZID=Europe/Vaduz:20251212T230000
DTSTAMP:20260420T102745
CREATED:20250905T150844Z
LAST-MODIFIED:20250905T150911Z
UID:4613-1765558800-1765580400@www.schachklub-rankweil.at
SUMMARY:Schüler-/Jugendtraining - VMM
DESCRIPTION:17:00 – 18:00 Schülertraining\n18:00 – 18:45! Jugendtraining\nVMM\nA-Klasse:\nBregenz 3 – Rankweil 2\nSonnenberg 2 – Rankweil 1\nB-Klasse:\nLustenau 2 – Rankweil 3
URL:https://www.schachklub-rankweil.at/event/schueler-jugendtraining-vmm-6/
END:VEVENT
BEGIN:VEVENT
DTSTART;TZID=Europe/Vaduz:20251207T000000
DTEND;TZID=Europe/Vaduz:20251207T235959
DTSTAMP:20260420T102745
CREATED:20250913T135213Z
LAST-MODIFIED:20250913T135504Z
UID:4719-1765065600-1765151999@www.schachklub-rankweil.at
SUMMARY:2. Internationales Schnellschach-Open in Nüziders
DESCRIPTION:2025_12_07_2025 Einladung 2. Rapid OPEN.pdf_
URL:https://www.schachklub-rankweil.at/event/2-internationales-schnellschach-open-in-nueziders/
LOCATION:Schulgasse 12\, 6714 Nüziders\, Schulgasse 12\, Nüziders\, Vorarlberg\, 6714\, Austria
END:VEVENT
END:VCALENDAR